BEGIN:VCALENDAR
VERSION:2.0
PRODID:HAZ Events
BEGIN:VEVENT
UID:
DTSTAMP:1776776008
SUMMARY:Atelierspaziergang 2026
LOCATION:
CLASS:PUBLIC
DTSTART:20260510T090000Z
DTEND:20260510T160000Z
END:VEVENT
END:VCALENDAR