BEGIN:VCALENDAR
VERSION:2.0
PRODID:HAZ Events
BEGIN:VEVENT
UID:
DTSTAMP:1776771801
SUMMARY:Atelierspaziergang 2026
LOCATION:
CLASS:PUBLIC
DTSTART:20260509T090000Z
DTEND:20260509T160000Z
END:VEVENT
END:VCALENDAR