BEGIN:VCALENDAR
VERSION:2.0
PRODID:HAZ Events
BEGIN:VEVENT
UID:
DTSTAMP:1776776195
SUMMARY:Licht &amp; Schatten
LOCATION:Schloss Landestrost
CLASS:PUBLIC
DTSTART:20260621T100000Z
DTEND:20260621T160000Z
END:VEVENT
END:VCALENDAR