BEGIN:VCALENDAR
VERSION:2.0
PRODID:HAZ Events
BEGIN:VEVENT
UID:
DTSTAMP:1776776175
SUMMARY:Licht &amp; Schatten
LOCATION:Schloss Landestrost
CLASS:PUBLIC
DTSTART:20260614T100000Z
DTEND:20260614T160000Z
END:VEVENT
END:VCALENDAR