BEGIN:VCALENDAR
VERSION:2.0
PRODID:HAZ Events
BEGIN:VEVENT
UID:
DTSTAMP:1776776021
SUMMARY:Licht &amp; Schatten
LOCATION:Schloss Landestrost
CLASS:PUBLIC
DTSTART:20260613T120000Z
DTEND:20260613T160000Z
END:VEVENT
END:VCALENDAR