BEGIN:VCALENDAR
VERSION:2.0
PRODID:HAZ Events
BEGIN:VEVENT
UID:
DTSTAMP:1776776111
SUMMARY:Licht &amp; Schatten
LOCATION:Schloss Landestrost
CLASS:PUBLIC
DTSTART:20260604T120000Z
DTEND:20260604T160000Z
END:VEVENT
END:VCALENDAR