BEGIN:VCALENDAR
VERSION:2.0
PRODID:HAZ Events
BEGIN:VEVENT
UID:
DTSTAMP:1776775956
SUMMARY:Biodiversit&auml;t in der Leineaue
LOCATION:
CLASS:PUBLIC
DTSTART:20260530T120000Z
DTEND:20260530T140000Z
END:VEVENT
END:VCALENDAR