BEGIN:VCALENDAR
VERSION:2.0
PRODID:HAZ Events
BEGIN:VEVENT
UID:
DTSTAMP:1776771769
SUMMARY:Biodiversit&auml;t in der Leineaue
LOCATION:
CLASS:PUBLIC
DTSTART:20260509T120000Z
DTEND:20260509T140000Z
END:VEVENT
END:VCALENDAR