BEGIN:VCALENDAR
VERSION:2.0
PRODID:HAZ Events
BEGIN:VEVENT
UID:
DTSTAMP:1776775987
SUMMARY:Geniale Insekten
LOCATION:Kunstverein Barsinghausen e.V.
CLASS:PUBLIC
DTSTART:20260605T090000Z
DTEND:20260605T150000Z
END:VEVENT
END:VCALENDAR