BEGIN:VCALENDAR
VERSION:2.0
PRODID:HAZ Events
BEGIN:VEVENT
UID:
DTSTAMP:1776775989
SUMMARY:Geniale Insekten
LOCATION:Kunstverein Barsinghausen e.V.
CLASS:PUBLIC
DTSTART:20260530T090000Z
DTEND:20260530T150000Z
END:VEVENT
END:VCALENDAR