BEGIN:VCALENDAR
VERSION:2.0
PRODID:HAZ Events
BEGIN:VEVENT
UID:
DTSTAMP:1776776174
SUMMARY:Geniale Insekten
LOCATION:Kunstverein Barsinghausen e.V.
CLASS:PUBLIC
DTSTART:20260516T120000Z
DTEND:20260516T160000Z
END:VEVENT
END:VCALENDAR