BEGIN:VCALENDAR
VERSION:2.0
PRODID:HAZ Events
BEGIN:VEVENT
UID:
DTSTAMP:1776771883
SUMMARY:Geniale Insekten
LOCATION:Kunstverein Barsinghausen e.V.
CLASS:PUBLIC
DTSTART:20260509T120000Z
DTEND:20260509T160000Z
END:VEVENT
END:VCALENDAR