BEGIN:VCALENDAR
VERSION:2.0
PRODID:HAZ Events
BEGIN:VEVENT
UID:
DTSTAMP:1776846381
SUMMARY:Schnuppertag im Imkerverein
LOCATION:
CLASS:PUBLIC
DTSTART:20260612T140000Z
DTEND:20260612T160000Z
END:VEVENT
END:VCALENDAR