BEGIN:VCALENDAR
VERSION:2.0
PRODID:HAZ Events
BEGIN:VEVENT
UID:
DTSTAMP:1776846432
SUMMARY:Schnuppertag im Imkerverein
LOCATION:
CLASS:PUBLIC
DTSTART:20260605T140000Z
DTEND:20260605T160000Z
END:VEVENT
END:VCALENDAR