BEGIN:VCALENDAR
VERSION:2.0
PRODID:HAZ Events
BEGIN:VEVENT
UID:
DTSTAMP:1776846371
SUMMARY:Schnuppertag im Imkerverein
LOCATION:
CLASS:PUBLIC
DTSTART:20260529T140000Z
DTEND:20260529T160000Z
END:VEVENT
END:VCALENDAR