BEGIN:VCALENDAR
VERSION:2.0
PRODID:HAZ Events
BEGIN:VEVENT
UID:
DTSTAMP:1776846487
SUMMARY:Schnuppertag im Imkerverein
LOCATION:
CLASS:PUBLIC
DTSTART:20260508T140000Z
DTEND:20260508T160000Z
END:VEVENT
END:VCALENDAR