BEGIN:VCALENDAR
VERSION:2.0
PRODID:HAZ Events
BEGIN:VEVENT
UID:
DTSTAMP:1776821567
SUMMARY:Job Up Store -Deine Ausbildung zum Mitnehmen!
LOCATION:
CLASS:PUBLIC
DTSTART:20260508T070000Z
DTEND:20260508T120000Z
END:VEVENT
END:VCALENDAR