BEGIN:VCALENDAR
VERSION:2.0
PRODID:HAZ Events
BEGIN:VEVENT
UID:
DTSTAMP:1776816152
SUMMARY:Job Up Store -Deine Ausbildung zum Mitnehmen!
LOCATION:
CLASS:PUBLIC
DTSTART:20260507T080000Z
DTEND:20260507T120000Z
END:VEVENT
END:VCALENDAR