BEGIN:VCALENDAR
VERSION:2.0
PRODID:HAZ Events
BEGIN:VEVENT
UID:
DTSTAMP:1776829857
SUMMARY:Finland &ndash; mehr als Nordlichter, Sauna und tausend Seen
LOCATION:
CLASS:PUBLIC
DTSTART:20260505T160000Z
DTEND:20260505T180000Z
END:VEVENT
END:VCALENDAR