BEGIN:VCALENDAR
VERSION:2.0
PRODID:HAZ Events
BEGIN:VEVENT
UID:
DTSTAMP:1776851633
SUMMARY:Sommerschuh Projekt Nr. 2
LOCATION:
CLASS:PUBLIC
DTSTART:20260721T080000Z
DTEND:20260721T130000Z
END:VEVENT
END:VCALENDAR