BEGIN:VCALENDAR
VERSION:2.0
PRODID:HAZ Events
BEGIN:VEVENT
UID:
DTSTAMP:1776763359
SUMMARY:Vogelerkennung mit dem Smartphone
LOCATION:
CLASS:PUBLIC
DTSTART:20260510T080000Z
DTEND:20260510T100000Z
END:VEVENT
END:VCALENDAR