BEGIN:VCALENDAR
VERSION:2.0
PRODID:HAZ Events
BEGIN:VEVENT
UID:
DTSTAMP:1776771747
SUMMARY:Abenteuerliches im Hin&uuml;berschen Garten: Druidenaltar und Hexenk&uuml;che
LOCATION:
CLASS:PUBLIC
DTSTART:20260509T120000Z
DTEND:20260509T143000Z
END:VEVENT
END:VCALENDAR