BEGIN:VCALENDAR
VERSION:2.0
PRODID:HAZ Events
BEGIN:VEVENT
UID:
DTSTAMP:1776771767
SUMMARY:V&ouml;gel im Stadtwald Eilenriede
LOCATION:
CLASS:PUBLIC
DTSTART:20260509T120000Z
DTEND:20260509T140000Z
END:VEVENT
END:VCALENDAR