BEGIN:VCALENDAR
VERSION:2.0
PRODID:HAZ Events
BEGIN:VEVENT
UID:
DTSTAMP:1776776083
SUMMARY:Vogelstimmen-Exkursion
LOCATION:
CLASS:PUBLIC
DTSTART:20260509T050000Z
DTEND:20260509T083000Z
END:VEVENT
END:VCALENDAR