BEGIN:VCALENDAR
VERSION:2.0
PRODID:HAZ Events
BEGIN:VEVENT
UID:
DTSTAMP:1776780957
SUMMARY:Art Vision 2026
LOCATION:
CLASS:PUBLIC
DTSTART:20260508T160000Z
DTEND:20260508T190000Z
END:VEVENT
END:VCALENDAR