BEGIN:VCALENDAR
VERSION:2.0
PRODID:HAZ Events
BEGIN:VEVENT
UID:
DTSTAMP:1776874989
SUMMARY:Verortungen &ndash; haarig
LOCATION:Gedok Niedersachsen Hannover
CLASS:PUBLIC
DTSTART:20260520T130000Z
DTEND:20260520T160000Z
END:VEVENT
END:VCALENDAR