BEGIN:VCALENDAR
VERSION:2.0
PRODID:HAZ Events
BEGIN:VEVENT
UID:
DTSTAMP:1776875116
SUMMARY:Verortungen &ndash; haarig
LOCATION:Gedok Niedersachsen Hannover
CLASS:PUBLIC
DTSTART:20260513T130000Z
DTEND:20260513T160000Z
END:VEVENT
END:VCALENDAR