BEGIN:VCALENDAR
VERSION:2.0
PRODID:HAZ Events
BEGIN:VEVENT
UID:
DTSTAMP:1776875065
SUMMARY:Verortungen &ndash; haarig
LOCATION:Gedok Niedersachsen Hannover
CLASS:PUBLIC
DTSTART:20260509T120000Z
DTEND:20260509T150000Z
END:VEVENT
END:VCALENDAR