BEGIN:VCALENDAR
VERSION:2.0
PRODID:HAZ Events
BEGIN:VEVENT
UID:
DTSTAMP:1776869560
SUMMARY:Verortungen &ndash; haarig
LOCATION:Gedok Niedersachsen Hannover
CLASS:PUBLIC
DTSTART:20260429T130000Z
DTEND:20260429T160000Z
END:VEVENT
END:VCALENDAR