BEGIN:VCALENDAR
VERSION:2.0
PRODID:HAZ Events
BEGIN:VEVENT
UID:
DTSTAMP:1776786023
SUMMARY:Welfengarten, Operng&auml;rten, Platz der Menschenrechte
LOCATION:
CLASS:PUBLIC
DTSTART:20260508T153000Z
DTEND:20260508T173000Z
END:VEVENT
END:VCALENDAR