BEGIN:VCALENDAR
VERSION:2.0
PRODID:HAZ Events
BEGIN:VEVENT
UID:
DTSTAMP:1776791198
SUMMARY:Der letzte Garten &ndash; R&auml;ume der Stille
LOCATION:
CLASS:PUBLIC
DTSTART:20260508T130000Z
DTEND:20260508T150000Z
END:VEVENT
END:VCALENDAR