BEGIN:VCALENDAR
VERSION:2.0
PRODID:HAZ Events
BEGIN:VEVENT
UID:
DTSTAMP:1776784236
SUMMARY:Gro&szlig;es Familienfest
LOCATION:Zoo Hannover
CLASS:PUBLIC
DTSTART:20260510T080000Z
DTEND:20260510T160000Z
END:VEVENT
END:VCALENDAR