BEGIN:VCALENDAR
VERSION:2.0
PRODID:HAZ Events
BEGIN:VEVENT
UID:
DTSTAMP:1776846629
SUMMARY:ZooWeltreise
LOCATION:Zoo Hannover
CLASS:PUBLIC
DTSTART:20260531T080000Z
DTEND:20260531T100000Z
END:VEVENT
END:VCALENDAR