BEGIN:VCALENDAR
VERSION:2.0
PRODID:HAZ Events
BEGIN:VEVENT
UID:
DTSTAMP:1776846490
SUMMARY:ZooWeltreise
LOCATION:Zoo Hannover
CLASS:PUBLIC
DTSTART:20260529T133000Z
DTEND:20260529T153000Z
END:VEVENT
END:VCALENDAR