BEGIN:VCALENDAR
VERSION:2.0
PRODID:HAZ Events
BEGIN:VEVENT
UID:
DTSTAMP:1776846544
SUMMARY:ZooWeltreise
LOCATION:Zoo Hannover
CLASS:PUBLIC
DTSTART:20260516T080000Z
DTEND:20260516T100000Z
END:VEVENT
END:VCALENDAR