BEGIN:VCALENDAR
VERSION:2.0
PRODID:HAZ Events
BEGIN:VEVENT
UID:
DTSTAMP:1776846595
SUMMARY:ZooWeltreise
LOCATION:Zoo Hannover
CLASS:PUBLIC
DTSTART:20260515T133000Z
DTEND:20260515T153000Z
END:VEVENT
END:VCALENDAR