BEGIN:VCALENDAR
VERSION:2.0
PRODID:HAZ Events
BEGIN:VEVENT
UID:
DTSTAMP:1776846460
SUMMARY:ZooWeltreise
LOCATION:Zoo Hannover
CLASS:PUBLIC
DTSTART:20260503T130000Z
DTEND:20260503T150000Z
END:VEVENT
END:VCALENDAR