BEGIN:VCALENDAR
VERSION:2.0
PRODID:HAZ Events
BEGIN:VEVENT
UID:
DTSTAMP:1776771958
SUMMARY:Was flie&szlig;t wohin? &ndash; Die Leine in der Stadt
LOCATION:Maschsee Nordufer
CLASS:PUBLIC
DTSTART:20260509T130000Z
DTEND:20260509T150000Z
END:VEVENT
END:VCALENDAR