BEGIN:VCALENDAR
VERSION:2.0
PRODID:HAZ Events
BEGIN:VEVENT
UID:
DTSTAMP:1776851598
SUMMARY:Frag den Scout
LOCATION:Zoo Hannover
CLASS:PUBLIC
DTSTART:20260524T093000Z
DTEND:20260524T113000Z
END:VEVENT
END:VCALENDAR