BEGIN:VCALENDAR
VERSION:2.0
PRODID:HAZ Events
BEGIN:VEVENT
UID:
DTSTAMP:1776851547
SUMMARY:Frag den Scout
LOCATION:Zoo Hannover
CLASS:PUBLIC
DTSTART:20260517T143000Z
DTEND:20260517T163000Z
END:VEVENT
END:VCALENDAR