BEGIN:VCALENDAR
VERSION:2.0
PRODID:HAZ Events
BEGIN:VEVENT
UID:
DTSTAMP:1776851510
SUMMARY:Frag den Scout
LOCATION:Zoo Hannover
CLASS:PUBLIC
DTSTART:20260510T093000Z
DTEND:20260510T113000Z
END:VEVENT
END:VCALENDAR