BEGIN:VCALENDAR
VERSION:2.0
PRODID:HAZ Events
BEGIN:VEVENT
UID:
DTSTAMP:1776851893
SUMMARY:Frag den Scout
LOCATION:Zoo Hannover
CLASS:PUBLIC
DTSTART:20260501T143000Z
DTEND:20260501T163000Z
END:VEVENT
END:VCALENDAR