BEGIN:VCALENDAR
VERSION:2.0
PRODID:HAZ Events
BEGIN:VEVENT
UID:
DTSTAMP:1776796133
SUMMARY:Fr&uuml;hlingsmarkt
LOCATION:Deutsches Taubblindenwerk
CLASS:PUBLIC
DTSTART:20260508T090000Z
DTEND:20260508T150000Z
END:VEVENT
END:VCALENDAR