BEGIN:VCALENDAR
VERSION:2.0
PRODID:HAZ Events
BEGIN:VEVENT
UID:
DTSTAMP:1776835539
SUMMARY:Fische, Farben, Fantasie
LOCATION:Landesmuseum
CLASS:PUBLIC
DTSTART:20260502T120000Z
DTEND:20260502T150000Z
END:VEVENT
END:VCALENDAR