BEGIN:VCALENDAR
VERSION:2.0
PRODID:HAZ Events
BEGIN:VEVENT
UID:
DTSTAMP:1776767688
SUMMARY:S&uuml;dstadt: Gartenleute, Rote 11 und Klinkerbauten
LOCATION:Stadtbibliothek Hannover
CLASS:PUBLIC
DTSTART:20260509T150000Z
DTEND:20260509T170000Z
END:VEVENT
END:VCALENDAR