BEGIN:VCALENDAR
VERSION:2.0
PRODID:HAZ Events
BEGIN:VEVENT
UID:
DTSTAMP:1776767771
SUMMARY:Wildes Kochen
LOCATION:
CLASS:PUBLIC
DTSTART:20260509T140000Z
DTEND:20260509T173000Z
END:VEVENT
END:VCALENDAR