BEGIN:VCALENDAR
VERSION:2.0
PRODID:HAZ Events
BEGIN:VEVENT
UID:
DTSTAMP:1776883409
SUMMARY:Essbare Wildpflanzen
LOCATION:
CLASS:PUBLIC
DTSTART:20260518T153000Z
DTEND:20260518T173000Z
END:VEVENT
END:VCALENDAR