BEGIN:VCALENDAR
VERSION:2.0
PRODID:HAZ Events
BEGIN:VEVENT
UID:
DTSTAMP:1776877612
SUMMARY:Essbare Wildpflanzen
LOCATION:
CLASS:PUBLIC
DTSTART:20260428T153000Z
DTEND:20260428T173000Z
END:VEVENT
END:VCALENDAR