BEGIN:VCALENDAR
VERSION:2.0
PRODID:HAZ Events
BEGIN:VEVENT
UID:
DTSTAMP:1776875029
SUMMARY:Essbare Wildpflanzen
LOCATION:
CLASS:PUBLIC
DTSTART:20260620T110000Z
DTEND:20260620T130000Z
END:VEVENT
END:VCALENDAR