BEGIN:VCALENDAR
VERSION:2.0
PRODID:HAZ Events
BEGIN:VEVENT
UID:
DTSTAMP:1776875067
SUMMARY:Essbare Wildpflanzen
LOCATION:
CLASS:PUBLIC
DTSTART:20260517T090000Z
DTEND:20260517T110000Z
END:VEVENT
END:VCALENDAR